BEGIN:VCALENDAR
VERSION:2.0
PRODID:-//AudioTheme 2.3.8
BEGIN:VEVENT
UID:urn:uuid:2fe8433d-0c31-45f1-8969-e8de5f9ec5a1
URL:https://mitchmcvicker.com/concerts/gig-3319/
DTSTART;VALUE=DATE:20011006
SUMMARY:Bright Spot (Youth Only)
LOCATION:Bright Spot (Youth Only)\, Washburn\, IA
END:VEVENT
END:VCALENDAR
