BEGIN:VCALENDAR
VERSION:2.0
PRODID:-//AudioTheme 2.3.8
BEGIN:VEVENT
UID:urn:uuid:ba972f1d-8296-4de8-a9da-077c7abced70
URL:https://mitchmcvicker.com/concerts/gig-3318/
DTSTART;VALUE=DATE:20011004
SUMMARY:Hillcrest Baptist Church
LOCATION:Hillcrest Baptist Church\, Sioux Falls\, SD
END:VEVENT
END:VCALENDAR
