BEGIN:VCALENDAR
VERSION:2.0
PRODID:-//AudioTheme 2.3.8
BEGIN:VEVENT
UID:urn:uuid:2f393d2b-b3d6-4438-8fa4-f199ccff2a7a
URL:https://mitchmcvicker.com/concerts/gig-3316/
DTSTART;VALUE=DATE:20011003
SUMMARY:Atonement Lutheran Church
LOCATION:Atonement Lutheran Church\, Fargo\, ND
END:VEVENT
END:VCALENDAR
