BEGIN:VCALENDAR
VERSION:2.0
PRODID:-//AudioTheme 2.3.8
BEGIN:VEVENT
UID:urn:uuid:1080d912-3dd8-4a98-a321-9ea17462a8b9
URL:https://mitchmcvicker.com/concerts/gig-3312/
DTSTART;VALUE=DATE:20010928
SUMMARY:Purdue University Campus House
LOCATION:Purdue University Campus House\, Wesr Lafayette\, IN
END:VEVENT
END:VCALENDAR
