BEGIN:VCALENDAR
VERSION:2.0
PRODID:-//AudioTheme 2.3.8
BEGIN:VEVENT
UID:urn:uuid:a1503f13-22c9-423c-9057-849109c6daef
URL:https://mitchmcvicker.com/concerts/gig-3310/
DTSTART;VALUE=DATE:20010927
SUMMARY:The Lion's Den Coffeehouse
LOCATION:The Lion's Den Coffeehouse\, Mitchell\, IN
END:VEVENT
END:VCALENDAR
