BEGIN:VCALENDAR
VERSION:2.0
PRODID:-//AudioTheme 2.3.8
BEGIN:VEVENT
UID:urn:uuid:9ae187d3-841a-45af-88d9-cc1031236a40
URL:https://mitchmcvicker.com/concerts/gig-3308/
DTSTART;VALUE=DATE:20010923
SUMMARY:Cross Lane Community Church
LOCATION:Cross Lane Community Church\, Terra Haute\, IN
END:VEVENT
END:VCALENDAR
