BEGIN:VCALENDAR
VERSION:2.0
PRODID:-//AudioTheme 2.3.8
BEGIN:VEVENT
UID:urn:uuid:ea616465-2ddc-400b-a684-c18c674868d1
URL:https://mitchmcvicker.com/concerts/gig-3306/
DTSTART;VALUE=DATE:20010922
SUMMARY:Morton Bible Church
LOCATION:Morton Bible Church\, Morton\, IL
END:VEVENT
END:VCALENDAR
