BEGIN:VCALENDAR
VERSION:2.0
PRODID:-//AudioTheme 2.3.8
BEGIN:VEVENT
UID:urn:uuid:7fae52b2-26dc-4e9c-85ac-344f9ce6e4ec
URL:https://mitchmcvicker.com/concerts/gig-3303/
DTSTART;VALUE=DATE:20010920
SUMMARY:Lesea Broadcasting "Live from Studio B"
LOCATION:Lesea Broadcasting "Live from Studio B"\, South Bend\, IN
END:VEVENT
END:VCALENDAR
