BEGIN:VCALENDAR
VERSION:2.0
PRODID:-//AudioTheme 2.3.8
BEGIN:VEVENT
UID:urn:uuid:5694644d-ae16-4302-ad8b-80d49e9e8d9c
URL:https://mitchmcvicker.com/concerts/gig-3302/
DTSTART;VALUE=DATE:20010919
SUMMARY:Western Illinois University Union
LOCATION:Western Illinois University Union\, Macomb\, IL
END:VEVENT
END:VCALENDAR
