BEGIN:VCALENDAR
VERSION:2.0
PRODID:-//AudioTheme 2.3.8
BEGIN:VEVENT
UID:urn:uuid:a3957012-e472-416a-b477-6d0db582223f
URL:https://mitchmcvicker.com/concerts/gig-3300/
DTSTART;VALUE=DATE:20010914
SUMMARY:Friends University Private Retreat
LOCATION:Friends University Private Retreat\, Rock Springs\, KS
END:VEVENT
END:VCALENDAR
