BEGIN:VCALENDAR
VERSION:2.0
PRODID:-//AudioTheme 2.3.8
BEGIN:VEVENT
UID:urn:uuid:f936fe7d-f914-4231-8b6f-84fe37270e15
URL:https://mitchmcvicker.com/concerts/gig-3299/
DTSTART;VALUE=DATE:20010913
SUMMARY:Faith and Learning Alumni Auditorium/Friends University
LOCATION:Faith and Learning Alumni Auditorium/Friends University\, Wichita\, KS
END:VEVENT
END:VCALENDAR
