BEGIN:VCALENDAR
VERSION:2.0
PRODID:-//AudioTheme 2.3.8
BEGIN:VEVENT
UID:urn:uuid:f8d87592-e588-4b35-b1f7-b8f9d17053b9
URL:https://mitchmcvicker.com/concerts/gig-3297/
DTSTART;VALUE=DATE:20010912
SUMMARY:Woodlawn United Methodist Church
LOCATION:Woodlawn United Methodist Church\, Derby\, KS
END:VEVENT
END:VCALENDAR
