BEGIN:VCALENDAR
VERSION:2.0
PRODID:-//AudioTheme 2.3.8
BEGIN:VEVENT
UID:urn:uuid:fc27ef98-8591-4d64-a158-ec40821e6d01
URL:https://mitchmcvicker.com/concerts/gig-3295/
DTSTART;VALUE=DATE:20010911
SUMMARY:700 Club TV Show -taping
LOCATION:700 Club TV Show -taping\, Nashville\, TN
END:VEVENT
END:VCALENDAR
