BEGIN:VCALENDAR
VERSION:2.0
PRODID:-//AudioTheme 2.3.8
BEGIN:VEVENT
UID:urn:uuid:3922015d-a693-45bf-a0b4-3a58d9edc8a8
URL:https://mitchmcvicker.com/concerts/gig-3293/
DTSTART;VALUE=DATE:20010910
SUMMARY:Live From Studio B taping
LOCATION:Live From Studio B taping\, South Bend\, IN
END:VEVENT
END:VCALENDAR
