BEGIN:VCALENDAR
VERSION:2.0
PRODID:-//AudioTheme 2.3.8
BEGIN:VEVENT
UID:urn:uuid:c23261ca-7ae1-4a92-bd46-fdc1e21a807b
URL:https://mitchmcvicker.com/concerts/gig-3289/
DTSTART;VALUE=DATE:20010904
SUMMARY:Faith United Methodist Church
LOCATION:Faith United Methodist Church\, Bellefonte\, PA
END:VEVENT
END:VCALENDAR
