BEGIN:VCALENDAR
VERSION:2.0
PRODID:-//AudioTheme 2.3.8
BEGIN:VEVENT
UID:urn:uuid:527cdc82-b007-41d2-a390-9c4b9ca52595
URL:https://mitchmcvicker.com/concerts/gig-3287/
DTSTART;VALUE=DATE:20010902
SUMMARY:First Southern Baptist Church
LOCATION:First Southern Baptist Church\, Williamsport\, PA
END:VEVENT
END:VCALENDAR
