BEGIN:VCALENDAR
VERSION:2.0
PRODID:-//AudioTheme 2.3.8
BEGIN:VEVENT
UID:urn:uuid:b9b8c950-fbdf-4a07-b008-578fb4b790db
URL:https://mitchmcvicker.com/concerts/gig-3285/
DTSTART;VALUE=DATE:20010901
SUMMARY:New Hope Solebury High School
LOCATION:New Hope Solebury High School\, New Hope\, PA
END:VEVENT
END:VCALENDAR
