BEGIN:VCALENDAR
VERSION:2.0
PRODID:-//AudioTheme 2.3.8
BEGIN:VEVENT
UID:urn:uuid:7ee2c968-8cd4-423b-8816-7498223c5ae3
URL:https://mitchmcvicker.com/concerts/gig-3280/
DTSTART;VALUE=DATE:20010817
SUMMARY:Table 7 Coffeehouse
LOCATION:Table 7 Coffeehouse\, Sedalia\, MO
END:VEVENT
END:VCALENDAR
