BEGIN:VCALENDAR
VERSION:2.0
PRODID:-//AudioTheme 2.3.8
BEGIN:VEVENT
UID:urn:uuid:5201f52a-b1d0-46cc-817e-ed4ae2ab15bf
URL:https://mitchmcvicker.com/concerts/gig-3278/
DTSTART;VALUE=DATE:20010811
SUMMARY:Legacy Fest 2001
LOCATION:Legacy Fest 2001\, Wichita\, KS
END:VEVENT
END:VCALENDAR
