BEGIN:VCALENDAR
VERSION:2.0
PRODID:-//AudioTheme 2.3.8
BEGIN:VEVENT
UID:urn:uuid:ab25c0c0-dddf-4129-a1f8-1a06bea898e3
URL:https://mitchmcvicker.com/concerts/gig-3276/
DTSTART;VALUE=DATE:20010810
SUMMARY:KTLI 99.1 FM (Light 99) and KCFN 91.1 FM American Family Radio-live interviews/performances
LOCATION:KTLI 99.1 FM (Light 99) and KCFN 91.1 FM American Family Radio-live interviews/performances\, Wichita\, KS
END:VEVENT
END:VCALENDAR
