BEGIN:VCALENDAR
VERSION:2.0
PRODID:-//AudioTheme 2.3.8
BEGIN:VEVENT
UID:urn:uuid:1a193b7b-0ada-46a3-88f2-5f13f1eec5a2
URL:https://mitchmcvicker.com/concerts/gig-3274/
DTSTART;VALUE=DATE:20010805
SUMMARY:Waynesville United Methodist Church
LOCATION:Waynesville United Methodist Church\, Waynesville\, NC
END:VEVENT
END:VCALENDAR
