BEGIN:VCALENDAR
VERSION:2.0
PRODID:-//AudioTheme 2.3.8
BEGIN:VEVENT
UID:urn:uuid:8b65f5c5-baf3-43c0-a250-3180832d699e
URL:https://mitchmcvicker.com/concerts/gig-3272/
DTSTART;VALUE=DATE:20010714
SUMMARY:LiFest-Sunnyview Fairgrounds
LOCATION:LiFest-Sunnyview Fairgrounds\, OshKosh\, WI
END:VEVENT
END:VCALENDAR
