BEGIN:VCALENDAR
VERSION:2.0
PRODID:-//AudioTheme 2.3.8
BEGIN:VEVENT
UID:urn:uuid:79f29fc9-d692-4300-9725-9a4fef7a7f79
URL:https://mitchmcvicker.com/concerts/gig-3269/
DTSTART;VALUE=DATE:20010708
SUMMARY:First Baptist Church-Maryville
LOCATION:First Baptist Church-Maryville\, Maryville\, TN
END:VEVENT
END:VCALENDAR
