BEGIN:VCALENDAR
VERSION:2.0
PRODID:-//AudioTheme 2.3.8
BEGIN:VEVENT
UID:urn:uuid:87867c7c-d3c7-4772-92bc-01f63fc9f5e9
URL:https://mitchmcvicker.com/concerts/gig-3267/
DTSTART;VALUE=DATE:20010706
SUMMARY:Biltmore Baptist Church
LOCATION:Biltmore Baptist Church\, Arden\, NC
END:VEVENT
END:VCALENDAR
