BEGIN:VCALENDAR
VERSION:2.0
PRODID:-//AudioTheme 2.3.8
BEGIN:VEVENT
UID:urn:uuid:a8c21938-8f9d-4061-ad8a-6fe6de1e4979
URL:https://mitchmcvicker.com/concerts/gig-3265/
DTSTART;VALUE=DATE:20010705
SUMMARY:Gateway Baptist Church
LOCATION:Gateway Baptist Church\, Irmo\, SC
END:VEVENT
END:VCALENDAR
