BEGIN:VCALENDAR
VERSION:2.0
PRODID:-//AudioTheme 2.3.8
BEGIN:VEVENT
UID:urn:uuid:ec99534c-feeb-4cae-9cdb-90e7c0931f2b
URL:https://mitchmcvicker.com/concerts/gig-3263/
DTSTART;VALUE=DATE:20010704
SUMMARY:Masters Loft Bookstore Parking Lot
LOCATION:Masters Loft Bookstore Parking Lot\, Greensboro\, NC
END:VEVENT
END:VCALENDAR
