BEGIN:VCALENDAR
VERSION:2.0
PRODID:-//AudioTheme 2.3.8
BEGIN:VEVENT
UID:urn:uuid:e16bd0b2-e757-4f46-b77a-66dfce6297c8
URL:https://mitchmcvicker.com/concerts/gig-3259/
DTSTART;VALUE=DATE:20010624
SUMMARY:LaFollette Park
LOCATION:LaFollette Park\, Kaukauna\, WI
END:VEVENT
END:VCALENDAR
