BEGIN:VCALENDAR
VERSION:2.0
PRODID:-//AudioTheme 2.3.8
BEGIN:VEVENT
UID:urn:uuid:35663bdd-18a2-4240-b9b1-9ea87fe631e6
URL:https://mitchmcvicker.com/concerts/gig-3257/
DTSTART;VALUE=DATE:20010622
SUMMARY:Bloomington Christian Church
LOCATION:Bloomington Christian Church\, Bloomington\, MN
END:VEVENT
END:VCALENDAR
