BEGIN:VCALENDAR
VERSION:2.0
PRODID:-//AudioTheme 2.3.8
BEGIN:VEVENT
UID:urn:uuid:bbdf8ebc-ab67-4174-8ecd-d0c26d5d0aa1
URL:https://mitchmcvicker.com/concerts/gig-3255/
DTSTART;VALUE=DATE:20010620
SUMMARY:Awantia Valley Christian Retreat Center
LOCATION:Awantia Valley Christian Retreat Center\, Marietta\, SC
END:VEVENT
END:VCALENDAR
