BEGIN:VCALENDAR
VERSION:2.0
PRODID:-//AudioTheme 2.3.8
BEGIN:VEVENT
UID:urn:uuid:07605816-b11e-4637-98c2-e96bfb706749
URL:https://mitchmcvicker.com/concerts/gig-3253/
DTSTART;VALUE=DATE:20010617
SUMMARY:Minnetonka Baptist Church
LOCATION:Minnetonka Baptist Church\, Minnetonka\, MN
END:VEVENT
END:VCALENDAR
