BEGIN:VCALENDAR
VERSION:2.0
PRODID:-//AudioTheme 2.3.8
BEGIN:VEVENT
UID:urn:uuid:d05aca95-75f7-400e-8f0a-f4bfa5bce4ce
URL:https://mitchmcvicker.com/concerts/gig-3251/
DTSTART;VALUE=DATE:20010616
SUMMARY:Wilmar Assembly of God Church
LOCATION:Wilmar Assembly of God Church\, Wilmar\, MN
END:VEVENT
END:VCALENDAR
