BEGIN:VCALENDAR
VERSION:2.0
PRODID:-//AudioTheme 2.3.8
BEGIN:VEVENT
UID:urn:uuid:ded6fa4b-a209-485e-8af6-a757ef65ba83
URL:https://mitchmcvicker.com/concerts/gig-3247/
DTSTART;VALUE=DATE:20010614
SUMMARY:One Festival
LOCATION:One Festival\, Memphis\, TN
END:VEVENT
END:VCALENDAR
