BEGIN:VCALENDAR
VERSION:2.0
PRODID:-//AudioTheme 2.3.8
BEGIN:VEVENT
UID:urn:uuid:b404e54a-7bc6-43ca-a6b5-3c669bc8e8ed
URL:https://mitchmcvicker.com/concerts/gig-3245/
DTSTART;VALUE=DATE:20010603
SUMMARY:Lake Springfield Christian Academy
LOCATION:Lake Springfield Christian Academy\, Springfield\, IL
END:VEVENT
END:VCALENDAR
