BEGIN:VCALENDAR
VERSION:2.0
PRODID:-//AudioTheme 2.3.8
BEGIN:VEVENT
UID:urn:uuid:887cdf55-b8b4-4370-b97c-2b867f46e1d0
URL:https://mitchmcvicker.com/concerts/gig-3243/
DTSTART;VALUE=DATE:20010602
SUMMARY:First Baptist Church of Lemay
LOCATION:First Baptist Church of Lemay\, St Louis\, MO
END:VEVENT
END:VCALENDAR
