BEGIN:VCALENDAR
VERSION:2.0
PRODID:-//AudioTheme 2.3.8
BEGIN:VEVENT
UID:urn:uuid:da9328fc-fc86-4d91-980e-5de9c0869bb1
URL:https://mitchmcvicker.com/concerts/gig-3241/
DTSTART;VALUE=DATE:20010601
SUMMARY:First Church of the Brethren
LOCATION:First Church of the Brethren\, Peoria\, IL
END:VEVENT
END:VCALENDAR
