BEGIN:VCALENDAR
VERSION:2.0
PRODID:-//AudioTheme 2.3.8
BEGIN:VEVENT
UID:urn:uuid:b477fe38-91b3-4da0-8ff6-6743d5931c28
URL:https://mitchmcvicker.com/concerts/gig-3240/
DTSTART;VALUE=DATE:20010512
SUMMARY:Cup O'Joy Coffeehouse
LOCATION:Cup O'Joy Coffeehouse\, Green Bay\, WI
END:VEVENT
END:VCALENDAR
