BEGIN:VCALENDAR
VERSION:2.0
PRODID:-//AudioTheme 2.3.8
BEGIN:VEVENT
UID:urn:uuid:7933e7e6-bbe6-43a3-9a05-aeb2e94d0855
URL:https://mitchmcvicker.com/concerts/gig-3230/
DTSTART;VALUE=DATE:20010427
SUMMARY:Jefferson United Methodist Church
LOCATION:Jefferson United Methodist Church\, Jefferson\, OH
END:VEVENT
END:VCALENDAR
