BEGIN:VCALENDAR
VERSION:2.0
PRODID:-//AudioTheme 2.3.8
BEGIN:VEVENT
UID:urn:uuid:f586f831-b91d-4b84-9591-87cafd1362a3
URL:https://mitchmcvicker.com/concerts/gig-3228/
DTSTART;VALUE=DATE:20010426
SUMMARY:32nd Annual Dove Awards- Mitch as a presenter
LOCATION:32nd Annual Dove Awards- Mitch as a presenter\, Nashville\, TN
END:VEVENT
END:VCALENDAR
