BEGIN:VCALENDAR
VERSION:2.0
PRODID:-//AudioTheme 2.3.8
BEGIN:VEVENT
UID:urn:uuid:30c9e72f-01c5-4a9f-b720-a064bfee5b4e
URL:https://mitchmcvicker.com/concerts/gig-3226/
DTSTART;VALUE=DATE:20010421
SUMMARY:"Music Without Walls" GMA Week-solo appearances and interviews
DESCRIPTION:4/21-4/26
LOCATION:"Music Without Walls" GMA Week-solo appearances and interviews\, Nashville\, TN
END:VEVENT
END:VCALENDAR
