BEGIN:VCALENDAR
VERSION:2.0
PRODID:-//AudioTheme 2.3.8
BEGIN:VEVENT
UID:urn:uuid:1e53c7b5-fca8-47fd-abae-b47916c74198
URL:https://mitchmcvicker.com/concerts/gig-3224/
DTSTART;VALUE=DATE:20010421
SUMMARY:Laurens County Courthouse-True Love Waits Rally
LOCATION:Laurens County Courthouse-True Love Waits Rally\, Laurens\, SC
END:VEVENT
END:VCALENDAR
