BEGIN:VCALENDAR
VERSION:2.0
PRODID:-//AudioTheme 2.3.8
BEGIN:VEVENT
UID:urn:uuid:ca66cc97-5781-42b5-a802-f7b5fb3c131e
URL:https://mitchmcvicker.com/concerts/gig-3222/
DTSTART;VALUE=DATE:20010420
SUMMARY:Lost and Found Coffeehouse
LOCATION:Lost and Found Coffeehouse\, Rock Hills\, SC
END:VEVENT
END:VCALENDAR
