BEGIN:VCALENDAR
VERSION:2.0
PRODID:-//AudioTheme 2.3.8
BEGIN:VEVENT
UID:urn:uuid:48ff41a9-eddc-46f7-820b-9a2c03faf462
URL:https://mitchmcvicker.com/concerts/gig-3220/
DTSTART;VALUE=DATE:20010407
SUMMARY:Sullivan Civic Center
LOCATION:Sullivan Civic Center\, 344 N Main St.\, Sullivan\, IN
END:VEVENT
END:VCALENDAR
