BEGIN:VCALENDAR
VERSION:2.0
PRODID:-//AudioTheme 2.3.8
BEGIN:VEVENT
UID:urn:uuid:85a85d0c-f4e0-4cdd-8aa7-9fad9616126e
URL:https://mitchmcvicker.com/concerts/gig-3216/
DTSTART;VALUE=DATE:20010331
SUMMARY:Stonebridge Church of God
LOCATION:Stonebridge Church of God\, Findlay\, OH
END:VEVENT
END:VCALENDAR
