BEGIN:VCALENDAR
VERSION:2.0
PRODID:-//AudioTheme 2.3.8
BEGIN:VEVENT
UID:urn:uuid:f84e3d61-0c12-4b89-a3ce-a4f84eefdbc0
URL:https://mitchmcvicker.com/concerts/gig-3214/
DTSTART;VALUE=DATE:20010329
SUMMARY:Calvary Lutheran Church
LOCATION:Calvary Lutheran Church\, Alexandria\, MN
END:VEVENT
END:VCALENDAR
