BEGIN:VCALENDAR
VERSION:2.0
PRODID:-//AudioTheme 2.3.8
BEGIN:VEVENT
UID:urn:uuid:9abc93dd-d5d1-4c7d-b780-db0ddf7ad109
URL:https://mitchmcvicker.com/concerts/gig-3210/
DTSTART;VALUE=DATE:20010327
SUMMARY:Paynesville High School
LOCATION:Paynesville High School\, Paynesville\, MN
END:VEVENT
END:VCALENDAR
