BEGIN:VCALENDAR
VERSION:2.0
PRODID:-//AudioTheme 2.3.8
BEGIN:VEVENT
UID:urn:uuid:49fee615-8852-48ff-8623-2aa83d469d15
URL:https://mitchmcvicker.com/concerts/gig-3208/
DTSTART;VALUE=DATE:20010325
SUMMARY:Westwood Community Church
LOCATION:Westwood Community Church\, St. Cloud\, MN
END:VEVENT
END:VCALENDAR
