BEGIN:VCALENDAR
VERSION:2.0
PRODID:-//AudioTheme 2.3.8
BEGIN:VEVENT
UID:urn:uuid:8827623f-4436-407f-ab53-8eb11cd53dc5
URL:https://mitchmcvicker.com/concerts/gig-3205/
DTSTART;VALUE=DATE:20010323
SUMMARY:Peace United Methodist Church
LOCATION:Peace United Methodist Church\, Pickerington (Columbus)\, OH
END:VEVENT
END:VCALENDAR
