BEGIN:VCALENDAR
VERSION:2.0
PRODID:-//AudioTheme 2.3.8
BEGIN:VEVENT
UID:urn:uuid:95db6505-b146-4f96-a011-bd8a2b3fac45
URL:https://mitchmcvicker.com/concerts/gig-3203/
DTSTART;VALUE=DATE:20010321
SUMMARY:First Baptist Church of Decatur
LOCATION:First Baptist Church of Decatur\, Decatur\, AL
END:VEVENT
END:VCALENDAR
