BEGIN:VCALENDAR
VERSION:2.0
PRODID:-//AudioTheme 2.3.8
BEGIN:VEVENT
UID:urn:uuid:ae290eb5-1984-4dc2-ab3c-304325c71472
URL:https://mitchmcvicker.com/concerts/gig-3201/
DTSTART;VALUE=DATE:20010319
SUMMARY:Trinity Baptist Church
LOCATION:Trinity Baptist Church\, Bartlesville\, OK
END:VEVENT
END:VCALENDAR
