BEGIN:VCALENDAR
VERSION:2.0
PRODID:-//AudioTheme 2.3.8
BEGIN:VEVENT
UID:urn:uuid:9e4bc5cd-64bd-4c56-a86a-69b961fc6b52
URL:https://mitchmcvicker.com/concerts/gig-3199/
DTSTART;VALUE=DATE:20010318
SUMMARY:First Christian Church
LOCATION:First Christian Church\, Owasso\, OK
END:VEVENT
END:VCALENDAR
